BEGIN:VCALENDAR
VERSION:2.0
PRODID:-//Fotogroep WMB//Agenda//NL
CALSCALE:GREGORIAN
METHOD:PUBLISH
X-WR-CALNAME:Fotogroep WMB
BEGIN:VEVENT
UID:25dff5b2-88de-424c-96a2-b8f2ff967f65@fotogroepwmb
DTSTAMP:20260423T145707Z
DTSTART:20260629T203000
DTEND:20260629T220000
SUMMARY:Bijeenkomst Fotogroep WMB
DESCRIPTION:Activiteit: Afsluiting eerste seizoenshelft
END:VEVENT
BEGIN:VEVENT
UID:1cabdca7-d49b-4d81-b7d9-4909e775ab2d@fotogroepwmb
DTSTAMP:20260423T145707Z
DTSTART:20260615T203000
DTEND:20260615T220000
SUMMARY:Bijeenkomst Fotogroep WMB
DESCRIPTION:Activiteit: Spreker
END:VEVENT
BEGIN:VEVENT
UID:30d1f1c0-bfed-4aad-89f1-bd6b6ab0b068@fotogroepwmb
DTSTAMP:20260423T145707Z
DTSTART:20260601T203000
DTEND:20260601T220000
SUMMARY:Bijeenkomst Fotogroep WMB
DESCRIPTION:Fotobespreking: Fris begin\, Vrij werk\nIntroductie: Van binnen naar buiten of omgekeerd
END:VEVENT
BEGIN:VEVENT
UID:53366b11-4a9e-4bdd-904c-401c043d80e7@fotogroepwmb
DTSTAMP:20260423T145707Z
DTSTART:20260518T203000
DTEND:20260518T220000
SUMMARY:Bijeenkomst Fotogroep WMB
DESCRIPTION:Fotobespreking: Portret\, Vrij werk\nIntroductie: Strijklicht
END:VEVENT
BEGIN:VEVENT
UID:86454803-76bb-4647-aada-38271db9ce7f@fotogroepwmb
DTSTAMP:20260423T145707Z
DTSTART:20260420T203000
DTEND:20260420T220000
SUMMARY:Bijeenkomst Fotogroep WMB
DESCRIPTION:Fotobespreking: Macro\, Vrij werk\nIntroductie: Straatfotografie
END:VEVENT
BEGIN:VEVENT
UID:95292747-4b8a-4ef7-b486-8362b2ce05fb@fotogroepwmb
DTSTAMP:20260423T145707Z
DTSTART:20260323T203000
DTEND:20260323T220000
SUMMARY:Bijeenkomst Fotogroep WMB
DESCRIPTION:Activiteit: Doe-avond
END:VEVENT
END:VCALENDAR